Workbook

Sheet Sheet1
A1: 2020-2021学年度国家奖学金评审答辩结果
A2: 序号 | B2: 姓名 | C2: 书院名称 | D2: 所属学院 | E2: 专业 | F2: 学号 | G2: 平均分 | H2: 备注
A3: 1 | B3: 曾佳怡 | C3: 明德书院 | D3: =VLOOKUP(F3,[1]学工网!$B$2:$M$18209,12,0) -> 药学院 | E3: =VLOOKUP(F3,[1]学工网!$B$2:$M$18209,11,0) -> 中药学 | F3: 20664020119 | G3: 85.714286
A4: 2 | B4: 江锦敏 | C4: 明德书院 | D4: =VLOOKUP(F4,[1]学工网!$B$2:$M$18209,12,0) -> 药学院 | E4: =VLOOKUP(F4,[1]学工网!$B$2:$M$18209,11,0) -> 药学 | F4: 20664010631 | G4: 88.142857
A5: 3 | B5: 张蔡欣 | C5: 崇礼书院 | D5: =VLOOKUP(F5,[1]学工网!$B$2:$M$18209,12,0) -> 管理工程学院 | E5: =VLOOKUP(F5,[1]学工网!$B$2:$M$18209,11,0) -> 工商企业管理 | F5: 20657030115 | G5: 87.428571
A6: 4 | B6: 吴健辉 | C6: 砺能书院 | D6: =VLOOKUP(F6,[1]学工网!$B$2:$M$18209,12,0) -> 信息工程学院 | E6: =VLOOKUP(F6,[1]学工网!$B$2:$M$18209,11,0) -> 计算机网络技术 | F6: 18601220146 | G6: 92.142857
A7: 5 | B7: 甘秉鸿 | C7: 砺能书院 | D7: =VLOOKUP(F7,[1]学工网!$B$2:$M$18209,12,0) -> 信息工程学院 | E7: =VLOOKUP(F7,[1]学工网!$B$2:$M$18209,11,0) -> 软件技术(前端开发设计) | F7: 18601260155 | G7: 89
A8: 6 | B8: 黄露娜 | C8: 思诚书院 | D8: =VLOOKUP(F8,[1]学工网!$B$2:$M$18209,12,0) -> 护理与健康学院 | E8: =VLOOKUP(F8,[1]学工网!$B$2:$M$18209,11,0) -> 助产 | F8: 20665020140 | G8: 88.428571
A9: 7 | B9: 李嘉伟 | C9: 思诚书院 | D9: =VLOOKUP(F9,[1]学工网!$B$2:$M$18209,12,0) -> 电商学院 | E9: =VLOOKUP(F9,[1]学工网!$B$2:$M$18209,11,0) -> 电子商务 | F9: 20656030113 | G9: 89.571429
A10: 8 | B10: 梁利豪 | C10: 思诚书院 | D10: =VLOOKUP(F10,[1]学工网!$B$2:$M$18209,12,0) -> 电商学院 | E10: =VLOOKUP(F10,[1]学工网!$B$2:$M$18209,11,0) -> 电子商务 | F10: 18601140155 | G10: 89.714286
A11: 9 | B11: 李海 | C11: 笃学书院 | D11: =VLOOKUP(F11,[1]学工网!$B$2:$M$18209,12,0) -> 建筑设计学院 | E11: =VLOOKUP(F11,[1]学工网!$B$2:$M$18209,11,0) -> 环境艺术设计 | F11: 18604340142 | G11: 89.285714
A12: 10 | B12: 麦嘉进 | C12: 知行书院 | D12: =VLOOKUP(F12,[1]学工网!$B$2:$M$18209,12,0) -> 信息工程学院 | E12: =VLOOKUP(F12,[1]学工网!$B$2:$M$18209,11,0) -> 计算机网络技术 | F12: 19662080145 | G12: 89.428571
A13: 11 | B13: 梁洪华 | C13: 知行书院 | D13: =VLOOKUP(F13,[1]学工网!$B$2:$M$18209,12,0) -> 智能制造学院 | E13: =VLOOKUP(F13,[1]学工网!$B$2:$M$18209,11,0) -> 机电一体化技术 | F13: 19663010323 | G13: 86.142857
A14: 12 | B14: 黄嘉颖 | C14: 知行书院 | D14: =VLOOKUP(F14,[1]学工网!$B$2:$M$18209,12,0) -> 公益慈善学院（社区学院） | E14: =VLOOKUP(F14,[1]学工网!$B$2:$M$18209,11,0) -> 社会工作 | F14: 19667010132 | G14: 92.857143
... A21: 19 | B21: 胡宏霞 | C21: 至善书院 | D21: =VLOOKUP(F21,[1]学工网!$B$2:$M$18209,12,0) -> 护理与健康学院 | E21: =VLOOKUP(F21,[1]学工网!$B$2:$M$18209,11,0) -> 护理 | F21: 19665040733 | G21: 91.142857
